BEGIN:VCALENDAR
VERSION:2.0
PRODID:Dia do Horticultor by AgriNavais\, edição de 2026
X-WR-CALNAME:Dia do Horticultor by AgriNavais\, edição de 2026
X-WR-TIMEZONE:Europe/Lisbon
X-PUBLISHED-TTL:P1W
BEGIN:VTIMEZONE
TZID:Europe/Lisbon
X-LIC-LOCATION:Europe/Lisbon
END:VTIMEZONE
BEGIN:VEVENT
UID:69ea54016f8ed
DTSTART;VALUE=DATE:20260519
SEQUENCE:0
TRANSP:OPAQUE
DTEND;VALUE=DATE:20260520
SUMMARY:Dia do Horticultor by AgriNavais\, edição de 2026
CLASS:PUBLIC
DESCRIPTION:Dia 19 de maio\, vai ter lugar mais uma edição do Dia do Hort
 icultor\, onde o convite esta lançado a todos os intervenientes do setor 
 horticula a marcarem presença\, participa&nbsp\;
X-MICROSOFT-CDO-ALLDAYEVENT:TRUE
DTSTAMP:20260423T171649Z
END:VEVENT
END:VCALENDAR