BEGIN:VCALENDAR
VERSION:2.0
PRODID:Plano de Promoção de Atletismo - Prova de Pista
X-WR-CALNAME:Plano de Promoção de Atletismo - Prova de Pista
X-WR-TIMEZONE:Europe/Lisbon
X-PUBLISHED-TTL:P1W
BEGIN:VTIMEZONE
TZID:Europe/Lisbon
X-LIC-LOCATION:Europe/Lisbon
END:VTIMEZONE
BEGIN:VEVENT
UID:69ea7c2c73f26
DTSTART;VALUE=DATE:20260419
SEQUENCE:0
TRANSP:OPAQUE
DTEND;VALUE=DATE:20260420
SUMMARY:Plano de Promoção de Atletismo - Prova de Pista
CLASS:PUBLIC
DESCRIPTION:Vai ter lugar em Navais no Parque Desportivo Alberto Silva mais
  uma jornada do Plano de Promoção de Atletismo\, desta feita na variante
  de Pista\, com início as 9:30\, contando com a participação das equipa
 s de atletismo do concelho\, incluindo o Centro Desporetivo e Culturald e 
 Navais\, participa&nbsp\;
X-MICROSOFT-CDO-ALLDAYEVENT:TRUE
DTSTAMP:20260423T200812Z
END:VEVENT
END:VCALENDAR