BEGIN:VCALENDAR
VERSION:2.0
PRODID:Plano de Promoção de BTT da Póvoa de Varzim Jornada em Navais
X-WR-CALNAME:Plano de Promoção de BTT da Póvoa de Varzim Jornada em Nava
 is
X-WR-TIMEZONE:Europe/Lisbon
X-PUBLISHED-TTL:P1W
BEGIN:VTIMEZONE
TZID:Europe/Lisbon
X-LIC-LOCATION:Europe/Lisbon
END:VTIMEZONE
BEGIN:VEVENT
UID:69ea5759d6718
DTSTART;VALUE=DATE:20260517
SEQUENCE:0
TRANSP:OPAQUE
DTEND;VALUE=DATE:20260518
SUMMARY:Plano de Promoção de BTT da Póvoa de Varzim Jornada em Navais
CLASS:PUBLIC
DESCRIPTION:Vai ter lugar no Parque Desportivo Alberto Silva\, mais uma jor
 nada do Plano de Promoção de BTT da Póvoa de Varzim\, que conta com a p
 articipaçao das equipas de BTT da região\, incluindo o Centro Desportivo
  e Cultural de Navais\, vem assistir.&nbsp\;
X-MICROSOFT-CDO-ALLDAYEVENT:TRUE
DTSTAMP:20260423T173105Z
END:VEVENT
END:VCALENDAR