BEGIN:VCALENDAR
VERSION:2.0
PRODID:1.º Encontro Motas antigas e classicas
X-WR-CALNAME:1.º Encontro Motas antigas e classicas
X-WR-TIMEZONE:Europe/Lisbon
X-PUBLISHED-TTL:P1W
BEGIN:VTIMEZONE
TZID:Europe/Lisbon
X-LIC-LOCATION:Europe/Lisbon
END:VTIMEZONE
BEGIN:VEVENT
UID:69ea553cadbe5
DTSTART;VALUE=DATE:20260517
SEQUENCE:0
TRANSP:OPAQUE
DTEND;VALUE=DATE:20260518
SUMMARY:1.º Encontro Motas antigas e classicas
CLASS:PUBLIC
DESCRIPTION: 1\,º Encontro de Motas Antigas e Clássicas  A Comissão de 
 Festas em honra de Santa Luzia vai realizar o 1.º Encontro de Motas Antig
 as e Clássicas\, no próximo dia 17 de maio\, junto à Igreja de Navais. 
  Esta iniciativa tem como objetivo angariar fundos para as festas em honra
  de Santa Luzia\, promovendo um momento de convívio entre amantes de mota
 s e toda a comunidade. O programa tem início às 08h00 com as inscriçõe
 s\, seguindo-se o passeio às 09h30 e a tradicional bênção dos capacete
 s às 11h30. A participação tem o valor de 12\,50€\, com lanche inclu
 ído.  As inscrições podem ser feitas no próprio dia\, através do cont
 acto da organização\, ou antecipadamente online\, através do link que e
 stará disponível na página de Facebook da Comissão de Festas.  Convida
 mos toda a população a participar e a apoiar esta iniciativa\, contribui
 ndo para a realização das Festas em honra de Santa Luzia e para manter v
 iva esta bonita tradição da nossa freguesia
X-MICROSOFT-CDO-ALLDAYEVENT:TRUE
DTSTAMP:20260423T172204Z
END:VEVENT
END:VCALENDAR