BEGIN:VCALENDAR
VERSION:2.0
PRODID:Almoço Solidario do Centro Social e Paroquial
X-WR-CALNAME:Almoço Solidario do Centro Social e Paroquial
X-WR-TIMEZONE:Europe/Lisbon
X-PUBLISHED-TTL:P1W
BEGIN:VTIMEZONE
TZID:Europe/Lisbon
X-LIC-LOCATION:Europe/Lisbon
END:VTIMEZONE
BEGIN:VEVENT
UID:69ea7d185b203
DTSTART;VALUE=DATE:20260315
SEQUENCE:0
TRANSP:OPAQUE
DTEND;VALUE=DATE:20260316
SUMMARY:Almoço Solidario do Centro Social e Paroquial
CLASS:PUBLIC
DESCRIPTION:No dia 15 de março de 2026\, pelas 12h30\, o Centro promove ma
 is um Almoço Solidário\, igualmente destinado à angariação de fundos 
 para a construção do Centro Residencial Divino Salvador. O evento decorr
 erá no Solar da Torre\, com serviço de catering assegurado pela Cozinha 
 Tia Dores. O almoço será servido em regime de buffet\, incluindo bebidas
 \, sobremesas e animação.  As reservas de mesas (entre 10 a 12 lugares) 
 ou de lugares individuais devem ser efetuadas na secretaria da instituiç
 ão\, entre as 09h00 e as 19h00\, ou junto dos elementos da Direção. No 
 ato da reserva deverá ser efetuado o respetivo pagamento\, sendo a capaci
 dade limitada. O custo de participação é de 37\,50 almoços para maiore
 s de 11 anos\, 20\,00 almoços para crianças dos 5 aos 10 anos\, sendo gr
 atuito para crianças até aos 4 anos.
X-MICROSOFT-CDO-ALLDAYEVENT:TRUE
DTSTAMP:20260423T201208Z
END:VEVENT
END:VCALENDAR