BEGIN:VCALENDAR
VERSION:2.0
PRODID:NAVibe no Póvoa Dance Fest
X-WR-CALNAME:NAVibe no Póvoa Dance Fest
X-WR-TIMEZONE:Europe/Lisbon
X-PUBLISHED-TTL:P1W
BEGIN:VTIMEZONE
TZID:Europe/Lisbon
X-LIC-LOCATION:Europe/Lisbon
END:VTIMEZONE
BEGIN:VEVENT
UID:69ea7cc14f2e9
DTSTART;VALUE=DATE:20260315
SEQUENCE:0
TRANSP:OPAQUE
DTEND;VALUE=DATE:20260316
SUMMARY:NAVibe no Póvoa Dance Fest
CLASS:PUBLIC
DESCRIPTION:&nbsp\;NAVibe no Póvoa Dance Fest  O grupo de dança NAVibe\, 
 sediado na freguesia de Navais\, no concelho da Póvoa de Varzim\, prepara
 -se para subir ao palco do Póvoa Dance Fest\, no próximo dia 15 de març
 o\, pelas 18h.  Fundado em setembro do ano passado\, o NAVibe nasceu com o
  objetivo de promover a dança na freguesia e criar um espaço de união\,
  criatividade e expressão artística para os jovens da comunidade. Em pou
 cos meses\, o grupo cresceu e é atualmente composto por 15 dançarinos\, 
 que se destacam pelo talento\, dedicação e forte espírito de equipa.  M
 ais do que uma participação num festival\, esta presença no Póvoa Danc
 e Fest representa uma oportunidade de levar o nome de Navais mais longe e 
 de dar visibilidade ao trabalho que tem vindo a ser desenvolvido na fregue
 sia. O grupo assume como missão mostrar o potencial artístico local e re
 presentar Navais com orgulho.  Os bilhetes para o evento têm o custo de 1
 0 euros por pessoa e podem ser adquiridos diretamente junto dos elementos 
 do grupo ou através do contacto 939626325.  O NAVibe apela à presença e
  ao apoio da comunidade\, reforçando que o incentivo do público é funda
 mental para continuar a crescer e a afirmar o talento existente na fregues
 ia.
X-MICROSOFT-CDO-ALLDAYEVENT:TRUE
DTSTAMP:20260423T201041Z
END:VEVENT
END:VCALENDAR