BEGIN:VCALENDAR
VERSION:2.0
PRODID:Concurso de Papagaios e dia Aberto dos Moinhos dos Junqueiras
X-WR-CALNAME:Concurso de Papagaios e dia Aberto dos Moinhos dos Junqueiras
X-WR-TIMEZONE:Europe/Lisbon
X-PUBLISHED-TTL:P1W
BEGIN:VTIMEZONE
TZID:Europe/Lisbon
X-LIC-LOCATION:Europe/Lisbon
END:VTIMEZONE
BEGIN:VEVENT
UID:69ea7d67d278c
DTSTART;VALUE=DATE:20260412
SEQUENCE:0
TRANSP:OPAQUE
DTEND;VALUE=DATE:20260413
SUMMARY:Concurso de Papagaios e dia Aberto dos Moinhos dos Junqueiras
CLASS:PUBLIC
DESCRIPTION:&nbsp\;O Céu de Navais vai encher-se de cor: Concurso de Papag
 aios nos Moinhos de Junqueira  No próximo dia 12 de abril\, a tradição 
 e a solidariedade dão as mãos na freguesia de Navais. A Junta de Fregues
 ia\, em colaboração com o Centro Desportivo e Cultural de Navais e o alu
 no Duarte Lima\, da Escola Secundária Rocha Peixoto\, no seu projeto de f
 im de curso\, promovem um vibrante Concurso de Papagaios de Vento e a visi
 ta aos moinhos de vento inserido no dia nacional dos moinhos que se celebr
 a na mesma data.  O evento terá lugar nos emblemáticos Moinhos dos Junqu
 eiras\, com início marcado para as 15:00\, com a possibilidade de visita 
 aos Moinhos.  Aprender com os mais novos  Para garantir que esta arte não
  se perde no tempo\, o programa inclui o workshop “Como construir um Pap
 agaio”. Através do uso de materiais reciclados\, os participantes mais 
 jovens terão a oportunidade de aprender a fabricar o seu próprio exempla
 r\, aliando a criatividade à sustentabilidade ambiental.  Solidariedade a
  voar alto  O concurso não é apenas um momento de lazer\, mas também um
 a causa nobre. A inscrição tem o valor simbólico de 10 \"Papagaios\"\, 
 sendo que a receita reverte na sua totalidade para a construção do Centr
 o Residencial “Divino Salvador”.  Premiação: Os papagaios mais criat
 ivos e com melhor desempenho no ar serão premiados pelo júri do concurso
 .  Um dia de festa para todos  A organização preparou uma tarde completa
  para as famílias\, que contará com:    Animação musical durante todo 
 o evento\;  Workshop de construção com materiais reciclados\;  Lanche co
 munitário para todos os participantes no      final da tarde.   Fica lan
 çado o convite a toda a população para aparecer\, participar e ajudar a
  colorir o céu de Navais por uma boa causa.
X-MICROSOFT-CDO-ALLDAYEVENT:TRUE
DTSTAMP:20260423T201327Z
END:VEVENT
END:VCALENDAR