BEGIN:VCALENDAR
VERSION:2.0
PRODID:XXIX Clásica da Primavera 2026
X-WR-CALNAME:XXIX Clásica da Primavera 2026
X-WR-TIMEZONE:Europe/Lisbon
X-PUBLISHED-TTL:P1W
BEGIN:VTIMEZONE
TZID:Europe/Lisbon
X-LIC-LOCATION:Europe/Lisbon
END:VTIMEZONE
BEGIN:VEVENT
UID:69ea7cc1aaf16
DTSTART;VALUE=DATE:20260308
SEQUENCE:0
TRANSP:OPAQUE
DTEND;VALUE=DATE:20260309
SUMMARY:XXIX Clásica da Primavera 2026
CLASS:PUBLIC
DESCRIPTION:&nbsp\;Póvoa de Varzim volta a ser o epicentro do ciclismo com
  a XXIX Clássica da Primavera  A mítica subida ao Monte de São Félix s
 erá\, uma vez mais\, o juiz da prova que reúne a elite do ciclismo nacio
 nal e as promessas do escalão Sub-23.  PÓVOA DE VARZIM – No próximo d
 ia 8 de março\, as estradas da Póvoa de Varzim voltam a colorir-se com a
  passagem do pelotão profissional. A XXIX Clássica da Primavera\, reconh
 ecida como a mais antiga clássica do calendário nacional para ciclistas 
 profissionais e Sub-23\, promete manter a tradição de dureza e espetácu
 lo que a caracteriza.  Organizada pelo Centro Desportivo e Cultural de Nav
 ais\, em parceria com a Associação de Ciclismo do Porto e a Federação 
 Portuguesa de Ciclismo\, a prova conta com o apoio estratégico do Municí
 pio da Póvoa de Varzim e de várias juntas de freguesia locais\, reforça
 ndo a ligação profunda desta modalidade à região.  O \"Muro\" de São 
 Félix como cenário decisivo  O traçado desta 29.ª edição mantém-se 
 fiel à identidade que lhe deu fama. O grande destaque vai para as sete pa
 ssagens pelo Monte de São Félix\, um ponto de observação privilegiado 
 para os adeptos e um desafio hercúleo para os atletas. A sucessão de sub
 idas curtas\, mas explosivas\, costuma ditar a seleção natural do pelot
 ão\, deixando na frente apenas os candidatos à vitória final.  O percur
 so atravessará as freguesias de: Navais\, Estela\, Terroso\, Laúndos\, R
 ates\, Aver-o-Mar\, Amorim e Póvoa de Varzim  Equilíbrio entre Experiên
 cia e Juventude  Um dos fatores distintivos desta Clássica é a convivên
 cia competitiva entre os ciclistas consagrados do pelotão profissional e 
 os jovens talentos da categoria Sub-23. Sendo a prova mais antiga do géne
 ro em Portugal\, vencer na Póvoa de Varzim é um selo de prestígio para 
 qualquer palmarés\, servindo muitas vezes como rampa de lançamento para 
 os novos valores do ciclismo nacional.  A organização espera uma forte a
 desão do público\, aproveitando o fim de semana para apoiar os corredore
 s num dos cenários mais emblemáticos do desporto sobre rodas no norte do
  país.
X-MICROSOFT-CDO-ALLDAYEVENT:TRUE
DTSTAMP:20260423T201041Z
END:VEVENT
END:VCALENDAR