BEGIN:VCALENDAR
VERSION:2.0
PRODID:17.ª Caminhada Solidária
X-WR-CALNAME:17.ª Caminhada Solidária
X-WR-TIMEZONE:Europe/Lisbon
X-PUBLISHED-TTL:P1W
BEGIN:VTIMEZONE
TZID:Europe/Lisbon
X-LIC-LOCATION:Europe/Lisbon
END:VTIMEZONE
BEGIN:VEVENT
UID:69ea7c6d448b1
DTSTART;VALUE=DATE:20260308
SEQUENCE:0
TRANSP:OPAQUE
DTEND;VALUE=DATE:20260309
SUMMARY:17.ª Caminhada Solidária
CLASS:PUBLIC
DESCRIPTION:No dia 8 de março de 2026 (domingo)\, pelas 10h00\, realiza-se
  a 17.ª Caminhada Solidária\, que irá percorrer as ruas da freguesia de
  Navais. As inscrições podem ser efetuadas na secretaria da instituiçã
 o ou no próprio dia\, junto do secretariado. A participação tem um cust
 o de 5 caminhadas\, valor que inclui oferta de T-shirt e garrafa de água.
  O montante angariado reverte integralmente para as obras do novo Centro R
 esidencial. A iniciativa é realizada em parceria com o Centro Desportivo 
 e Cultural de Navais\, reforçando o espírito de colaboração entre asso
 ciações da freguesia. A organização deixa o convite à população: 
 “Juntem-se ao CSPNavais e caminhem connosco.”
X-MICROSOFT-CDO-ALLDAYEVENT:TRUE
DTSTAMP:20260423T200917Z
END:VEVENT
END:VCALENDAR